BEGIN:VCALENDAR
VERSION:2.0
PRODID:-//Orlando Women&#039;s Golf Association - ECPv6.2.1//NONSGML v1.0//EN
CALSCALE:GREGORIAN
METHOD:PUBLISH
X-ORIGINAL-URL:https://www.myowga.com
X-WR-CALDESC:Events for Orlando Women&#039;s Golf Association
REFRESH-INTERVAL;VALUE=DURATION:PT1H
X-Robots-Tag:noindex
X-PUBLISHED-TTL:PT1H
BEGIN:VTIMEZONE
TZID:UTC
BEGIN:STANDARD
TZOFFSETFROM:+0000
TZOFFSETTO:+0000
TZNAME:UTC
DTSTART:20200101T000000
END:STANDARD
END:VTIMEZONE
BEGIN:VEVENT
DTSTART;TZID=UTC:20260324T080000
DTEND;TZID=UTC:20260330T170000
DTSTAMP:20260421T103855
CREATED:20250222T153816Z
LAST-MODIFIED:20251202T152938Z
UID:6071-1774339200-1774890000@www.myowga.com
SUMMARY:Zellwood Station Golf Club - Member/Member - Double Credit
DESCRIPTION:Sign Up: Opens – Monday\, March 2nd @ 9:00 am \n Sign Up: Closes –  Saturday\, March 21st @ 5:00 pm \nTees Played:  Red @ 4820  yards\, 71.1/122\, Pace of Play 4 hours and 15 minutes \nPar:  72 \nClick Here To Log Into Blue Golf to Register \nClick Here For Results \n 
URL:https://www.myowga.com/event/zellwood-station-golf-club-2/
LOCATION:Zellwood Station Golf Club\, 2728 Cayman Cir\, Zellwood\, FL\, 32798
CATEGORIES:Regular Play - Double Credit
ATTACH;FMTTYPE=image/jpeg:https://www.myowga.com/wp-content/uploads/2022/10/Zellwood.jpg
END:VEVENT
BEGIN:VEVENT
DTSTART;TZID=UTC:20260310T080000
DTEND;TZID=UTC:20260316T170000
DTSTAMP:20260421T103855
CREATED:20251202T152218Z
LAST-MODIFIED:20251202T152428Z
UID:6205-1773129600-1773680400@www.myowga.com
SUMMARY:Tentative - Harbor Hills Country Club - Trial - Double Credit
DESCRIPTION:Sign Up: Opens – Monday\, February 16th @ 9:00 am \n Sign Up: Closes –  Saturday\, March 7th @ 5:00 pm \nTees Played:  Red @ 4886 yards\, 68.2/121 Pace of Play 4 hours \nPar:  72 \nClick Here To Log Into Blue Golf to Register \nClick Here For Results
URL:https://www.myowga.com/event/tentative-harbor-hills-country-club-trial-double-credit/
LOCATION:Harbor Hills Country Club\, 6538 Lake Griffin Rd\, Lady Lake\, FL\, 32159
CATEGORIES:Regular Play
ATTACH;FMTTYPE=image/jpeg:https://www.myowga.com/wp-content/uploads/2025/12/IMG_0670.jpeg
END:VEVENT
BEGIN:VEVENT
DTSTART;TZID=UTC:20251118T080000
DTEND;TZID=UTC:20251124T170000
DTSTAMP:20260421T103855
CREATED:20250909T230139Z
LAST-MODIFIED:20250909T232403Z
UID:6151-1763452800-1764003600@www.myowga.com
SUMMARY:The Club at Venetian Bay
DESCRIPTION:Sign Up: Opens – Monday\, October 27th @  9:00 am \n Sign Up: Closes –  Saturday\, November15th  @ 5:00 pm \nTees Played: Green @ 5470 yards\, TBD\, Pace of Play 4 hours\, 15 mins \nPar – 72 \nClick Here To Log Into Blue Golf to Register \nClick Here For Results \n  \n 
URL:https://www.myowga.com/event/the-club-at-venetian-bay/
LOCATION:Venetian Bay\, 63 Airport Rd\, New Smyrna Beach\, FL\, 32168
CATEGORIES:Regular Play
ATTACH;FMTTYPE=image/jpeg:https://www.myowga.com/wp-content/uploads/2025/09/IMG_0650.jpeg
END:VEVENT
BEGIN:VEVENT
DTSTART;TZID=UTC:20251014T090000
DTEND;TZID=UTC:20251027T170000
DTSTAMP:20260421T103855
CREATED:20230102T015940Z
LAST-MODIFIED:20250911T203415Z
UID:5285-1760432400-1761584400@www.myowga.com
SUMMARY:2025-2026 Handicap Tournament (Rd 2) - Dubsdread Golf Club - Shotgun
DESCRIPTION:Sign Up: Opens – Monday\, September 15th @ 9:00 am \n Sign Up: Closes –  Tuesday\, October 7th @ 6:00 pm \nTees Played: YELLOW @ 4924 yards\, 69.3/124\, Pace of Play 4 hours\, 30 minutes \nPar:  72 \nClick Here To Log Into Blue Golf to Register \nClick Here For Results \nClick here for Course Handicaps \n 
URL:https://www.myowga.com/event/2023-team-match-play-dubsdread-830-shotgun/
LOCATION:Dubsdread\, 549 W Par St\, Orlando\, FL 32804\, Orlando\, FL\, 32804\, United States
CATEGORIES:Major Event - Handicap Tournament
ATTACH;FMTTYPE=image/jpeg:https://www.myowga.com/wp-content/uploads/2020/11/Dubsdread3.jpg
END:VEVENT
BEGIN:VEVENT
DTSTART;TZID=UTC:20241029T080000
DTEND;TZID=UTC:20241104T170000
DTSTAMP:20260421T103855
CREATED:20240929T182502Z
LAST-MODIFIED:20240929T182749Z
UID:5971-1730188800-1730739600@www.myowga.com
SUMMARY:Mystic Dunes Golf Club - Shotgun
DESCRIPTION:Sign Up: Opens – Sunday\, October 6th @ 8:00 am \n Sign Up: Closes –  Saturday\, October 26th  @ 5:00 pm \nTees Played:  GOLD @ 5235 yards\, 70.6/123\, Pace of Play 4 hours\, 15 mins \nPar – 72 \nClick Here To Log Into Blue Golf to Register \nClick Here For Results
URL:https://www.myowga.com/event/mystic-dunes-golf-club-shotgun/
LOCATION:Mystics Dunes Golf Club\, 7850 Shadow Tree Ln\, Kissimmee\, FL\, 34747
CATEGORIES:Regular Play
ATTACH;FMTTYPE=image/jpeg:https://www.myowga.com/wp-content/uploads/2024/09/IMG_3725.jpg
END:VEVENT
BEGIN:VEVENT
DTSTART;TZID=UTC:20200225T083000
DTEND;TZID=UTC:20200302T160000
DTSTAMP:20260421T103855
CREATED:20190824T010321Z
LAST-MODIFIED:20200219T180034Z
UID:4004-1582619400-1583164800@www.myowga.com
SUMMARY:Northshore
DESCRIPTION:Sign Up:  Opens – Monday\, February 3rd @ 8:00 am \nSign Up:  Closes – Saturday\, February 22nd @ 6:00 pm    \nTees Played:  \nClick Here To Log In and Register for This Event \nClick Here To View Tee Sheet \nClick Here For Result \nClick Here For Event Rep.
URL:https://www.myowga.com/event/northshore/
LOCATION:FL
ATTACH;FMTTYPE=image/jpeg:https://www.myowga.com/wp-content/uploads/2019/08/northshore.jpg
END:VEVENT
END:VCALENDAR